BEGIN:VCALENDAR
VERSION:2.0
PRODID:-//wp-events-plugin.com//7.2.3.1//EN
BEGIN:VEVENT
UID:177@belezatoday.com.br
DTSTART;VALUE=DATE:20180623
DTEND;VALUE=DATE:20180626
DTSTAMP:20171107T222344Z
URL:https://www.belezatoday.com.br/eventos/iecsc-las-vegas/
SUMMARY:IECSC LAS VEGAS
DESCRIPTION:IECSC LAS VEGAS\nInternational Esthetics\, Cosmetics &amp\; Spa
 \nData: 23 e 25 de junho 2018\nLocal: Las Vegas Convention Center – Las 
 Vegas\, USA\nPor: Questex\, LLC\nwww.iecsclasvegas.com 
LOCATION:Las Vegas Convention Center\, 3150 Paradise Rd\, Las Vegas\, NV 89
 109\, Las Vegas\, Estados Unidos
X-APPLE-STRUCTURED-LOCATION;VALUE=URI;X-ADDRESS=3150 Paradise Rd\, Las Vega
 s\, NV 89109\, Las Vegas\, Estados Unidos;X-APPLE-RADIUS=100;X-TITLE=Las V
 egas Convention Center:geo:0,0
END:VEVENT
END:VCALENDAR